BEGIN:VCALENDAR
VERSION:2.0
PRODID:-//Wellington Garden Club - ECPv6.15.17.1//NONSGML v1.0//EN
CALSCALE:GREGORIAN
METHOD:PUBLISH
X-WR-CALNAME:Wellington Garden Club
X-ORIGINAL-URL:https://wellingtongardenclub.org
X-WR-CALDESC:Events for Wellington Garden Club
REFRESH-INTERVAL;VALUE=DURATION:PT1H
X-Robots-Tag:noindex
X-PUBLISHED-TTL:PT1H
BEGIN:VTIMEZONE
TZID:America/New_York
BEGIN:DAYLIGHT
TZOFFSETFROM:-0500
TZOFFSETTO:-0400
TZNAME:EDT
DTSTART:20240310T070000
END:DAYLIGHT
BEGIN:STANDARD
TZOFFSETFROM:-0400
TZOFFSETTO:-0500
TZNAME:EST
DTSTART:20241103T060000
END:STANDARD
BEGIN:DAYLIGHT
TZOFFSETFROM:-0500
TZOFFSETTO:-0400
TZNAME:EDT
DTSTART:20250309T070000
END:DAYLIGHT
BEGIN:STANDARD
TZOFFSETFROM:-0400
TZOFFSETTO:-0500
TZNAME:EST
DTSTART:20251102T060000
END:STANDARD
BEGIN:DAYLIGHT
TZOFFSETFROM:-0500
TZOFFSETTO:-0400
TZNAME:EDT
DTSTART:20260308T070000
END:DAYLIGHT
BEGIN:STANDARD
TZOFFSETFROM:-0400
TZOFFSETTO:-0500
TZNAME:EST
DTSTART:20261101T060000
END:STANDARD
END:VTIMEZONE
BEGIN:VEVENT
DTSTART;TZID=America/New_York:20251006T093000
DTEND;TZID=America/New_York:20251006T120000
DTSTAMP:20260421T012830
CREATED:20250926T104602Z
LAST-MODIFIED:20250926T104823Z
UID:32243-1759743000-1759752000@wellingtongardenclub.org
SUMMARY:Monthly Membership Meeting
DESCRIPTION:Speaker:  Emily Marois \nTopic:  Naturally Florida – Embracing Native Plants in Your Garden
URL:https://wellingtongardenclub.org/event/32243/
END:VEVENT
BEGIN:VEVENT
DTSTART;TZID=America/New_York:20251007T090000
DTEND;TZID=America/New_York:20251007T110000
DTSTAMP:20260421T012830
CREATED:20250926T105532Z
LAST-MODIFIED:20250926T105532Z
UID:32248-1759827600-1759834800@wellingtongardenclub.org
SUMMARY:Adopt-A-Street
DESCRIPTION:Meet at Greenbriar Dog Park \nSignup at October 6 Membership Meeting
URL:https://wellingtongardenclub.org/event/adopt-a-street/
END:VEVENT
BEGIN:VEVENT
DTSTART;TZID=America/New_York:20251016T083000
DTEND;TZID=America/New_York:20251016T143000
DTSTAMP:20260421T012830
CREATED:20250926T110104Z
LAST-MODIFIED:20250926T110104Z
UID:32250-1760603400-1760625000@wellingtongardenclub.org
SUMMARY:District X Fall Meeting
DESCRIPTION:Hosted by Garden Club of Indian River County \nWhere:  Vero Beach Country Club \n800 30th Street\, Vero Beach\, FL  32960 \nTheme:  “Barefoot in Paradise” \nCost:  $50.00
URL:https://wellingtongardenclub.org/event/district-x-fall-meeting/
END:VEVENT
BEGIN:VEVENT
DTSTART;TZID=America/New_York:20251023T100000
DTEND;TZID=America/New_York:20251023T120000
DTSTAMP:20260421T012830
CREATED:20250926T105218Z
LAST-MODIFIED:20250926T105218Z
UID:32246-1761213600-1761220800@wellingtongardenclub.org
SUMMARY:Around & About
DESCRIPTION:Kimberly Helms’ House \n9443 Granite Ridge Lane\, WPB \nCarpool:  East meet by 9:20am / Depart t 9:30am / Arrive by 10:00am \nCost:  Free
URL:https://wellingtongardenclub.org/event/around-about/
END:VEVENT
BEGIN:VEVENT
DTSTART;TZID=America/New_York:20251024T170000
DTEND;TZID=America/New_York:20251024T190000
DTSTAMP:20260421T012830
CREATED:20250926T110258Z
LAST-MODIFIED:20250926T110258Z
UID:32252-1761325200-1761332400@wellingtongardenclub.org
SUMMARY:Sunset Social
DESCRIPTION:Kristie Kamps \n636 Rambling Drive \nWellington\, FL \n 
URL:https://wellingtongardenclub.org/event/sunset-social/
END:VEVENT
BEGIN:VEVENT
DTSTART;TZID=America/New_York:20251027T093000
DTEND;TZID=America/New_York:20251027T120000
DTSTAMP:20260421T012830
CREATED:20250926T110514Z
LAST-MODIFIED:20250926T110514Z
UID:32254-1761557400-1761566400@wellingtongardenclub.org
SUMMARY:Monthly BOD Meeting
DESCRIPTION:Wellington Community Center \nWIFI Room
URL:https://wellingtongardenclub.org/event/monthly-bod-meeting/
END:VEVENT
END:VCALENDAR