BEGIN:VCALENDAR
VERSION:2.0
PRODID:-//Wellington Garden Club - ECPv6.15.17.1//NONSGML v1.0//EN
CALSCALE:GREGORIAN
METHOD:PUBLISH
X-WR-CALNAME:Wellington Garden Club
X-ORIGINAL-URL:https://wellingtongardenclub.org
X-WR-CALDESC:Events for Wellington Garden Club
REFRESH-INTERVAL;VALUE=DURATION:PT1H
X-Robots-Tag:noindex
X-PUBLISHED-TTL:PT1H
BEGIN:VTIMEZONE
TZID:America/New_York
BEGIN:DAYLIGHT
TZOFFSETFROM:-0500
TZOFFSETTO:-0400
TZNAME:EDT
DTSTART:20250309T070000
END:DAYLIGHT
BEGIN:STANDARD
TZOFFSETFROM:-0400
TZOFFSETTO:-0500
TZNAME:EST
DTSTART:20251102T060000
END:STANDARD
BEGIN:DAYLIGHT
TZOFFSETFROM:-0500
TZOFFSETTO:-0400
TZNAME:EDT
DTSTART:20260308T070000
END:DAYLIGHT
BEGIN:STANDARD
TZOFFSETFROM:-0400
TZOFFSETTO:-0500
TZNAME:EST
DTSTART:20261101T060000
END:STANDARD
BEGIN:DAYLIGHT
TZOFFSETFROM:-0500
TZOFFSETTO:-0400
TZNAME:EDT
DTSTART:20270314T070000
END:DAYLIGHT
BEGIN:STANDARD
TZOFFSETFROM:-0400
TZOFFSETTO:-0500
TZNAME:EST
DTSTART:20271107T060000
END:STANDARD
END:VTIMEZONE
BEGIN:VEVENT
DTSTART;TZID=America/New_York:20260425T110000
DTEND;TZID=America/New_York:20260425T130000
DTSTAMP:20260420T133721
CREATED:20251026T112429Z
LAST-MODIFIED:20251026T112429Z
UID:32386-1777114800-1777122000@wellingtongardenclub.org
SUMMARY:VOW Earth Day / Arbor Day / Great American Clean Up
DESCRIPTION:Where:  Wellington Amphitheatre
URL:https://wellingtongardenclub.org/event/vow-earth-day-arbor-day-great-american-clean-up/
END:VEVENT
BEGIN:VEVENT
DTSTART;TZID=America/New_York:20260425T190000
DTEND;TZID=America/New_York:20260425T210000
DTSTAMP:20260420T133721
CREATED:20251026T112241Z
LAST-MODIFIED:20251026T112241Z
UID:32384-1777143600-1777150800@wellingtongardenclub.org
SUMMARY:The King's Academy
DESCRIPTION:Production:  “Night of Jazz” \n 
URL:https://wellingtongardenclub.org/event/the-kings-academy-2/
END:VEVENT
END:VCALENDAR