BEGIN:VCALENDAR
VERSION:2.0
PRODID:-//Wellington Garden Club - ECPv6.15.17.1//NONSGML v1.0//EN
CALSCALE:GREGORIAN
METHOD:PUBLISH
X-WR-CALNAME:Wellington Garden Club
X-ORIGINAL-URL:https://wellingtongardenclub.org
X-WR-CALDESC:Events for Wellington Garden Club
REFRESH-INTERVAL;VALUE=DURATION:PT1H
X-Robots-Tag:noindex
X-PUBLISHED-TTL:PT1H
BEGIN:VTIMEZONE
TZID:America/New_York
BEGIN:DAYLIGHT
TZOFFSETFROM:-0500
TZOFFSETTO:-0400
TZNAME:EDT
DTSTART:20250309T070000
END:DAYLIGHT
BEGIN:STANDARD
TZOFFSETFROM:-0400
TZOFFSETTO:-0500
TZNAME:EST
DTSTART:20251102T060000
END:STANDARD
BEGIN:DAYLIGHT
TZOFFSETFROM:-0500
TZOFFSETTO:-0400
TZNAME:EDT
DTSTART:20260308T070000
END:DAYLIGHT
BEGIN:STANDARD
TZOFFSETFROM:-0400
TZOFFSETTO:-0500
TZNAME:EST
DTSTART:20261101T060000
END:STANDARD
BEGIN:DAYLIGHT
TZOFFSETFROM:-0500
TZOFFSETTO:-0400
TZNAME:EDT
DTSTART:20270314T070000
END:DAYLIGHT
BEGIN:STANDARD
TZOFFSETFROM:-0400
TZOFFSETTO:-0500
TZNAME:EST
DTSTART:20271107T060000
END:STANDARD
END:VTIMEZONE
BEGIN:VEVENT
DTSTART;TZID=America/New_York:20260414T080000
DTEND;TZID=America/New_York:20260417T170000
DTSTAMP:20260420T133716
CREATED:20251026T111720Z
LAST-MODIFIED:20251026T111720Z
UID:32380-1776153600-1776445200@wellingtongardenclub.org
SUMMARY:FFGC Convention
DESCRIPTION:Where:  Embassy Suites Orlando by Hilton \nLake Buena Vista South\, FL
URL:https://wellingtongardenclub.org/event/ffgc-convention/
END:VEVENT
BEGIN:VEVENT
DTSTART;TZID=America/New_York:20260416T100000
DTEND;TZID=America/New_York:20260416T120000
DTSTAMP:20260420T133716
CREATED:20251026T110432Z
LAST-MODIFIED:20251026T110432Z
UID:32371-1776333600-1776340800@wellingtongardenclub.org
SUMMARY:Around & About to So Florida Permaculture Resource Center
DESCRIPTION:Address:  8346 7th Place South \nWest Palm Beach\, FL  33411 \nGuide:  George Soria\, Chairman and Founder \nCarpool:  Arrive by 9:20am / Depart at 9:30am / Arrive at So Fl Permaculture at 10:00am
URL:https://wellingtongardenclub.org/event/around-about-to-so-florida-permaculture-resource-center/
END:VEVENT
END:VCALENDAR